{"text_format":"1","workbook":"xlsx","n_sheets":3,"sheets":["使い方","シミュレーション ","メニューデータ"],"not_rendered":{"charts":1,"images":205,"macros":1,"external_links":1,"defined_names":2,"comments":0,"pivot_tables":0},"unopened":[],"bounds":{"document_bytes":16777216,"sheet_cells":100000,"rows_first":2000,"rows_last":500,"rows_between":2000,"halvings":0,"cell_chars":16384,"cell_head_chars":4096},"cells_cut":0,"cells_raw":0,"read":"whole","date_system":"1900"}

{"sheet":"使い方","index":0,"n_rows":30,"n_cols":19,"rows_kept":30,"cut":false,"hidden":false,"merged":[[1,1,1,8],[1,11,1,16]]}
[]
[null,null,null,null,null,null,null,null,null,null,null,"シミュレーションの使い方",null,null,null,null,null,"　"]
[]
[]
[]
[]
[]
[]
[]
[]
[]
[]
[]
[null,"年齢"]
[null,"性別"]
[]
[null,"★男性は1、女性は2を"]
[null,"選択してください。"]
[]
[null,"・身体活動レベル"]
[null,"　ふつう（Ⅱ）の摂取基準",null,null,null,null,null,null,null,null,null,null,null,null,null,null,null,"過不足欄の　　　　　　　　　　　　　　　　　表示について"]
[null,"　がシミュレーション",null,null,null,null,null,null,null,null,null,null,null,null,null,null,null,"　　   病院や学校給食を担当する管理栄養士の意見を参考に「適量」の範囲を設定している。"]
[null,"　シートに表示されます。",null,null,null,null,null,null,null,null,null,null,null,null,null,null,null,"　　　 あくまでBMIが目標範囲(18.5～25未満）であることを前提としている。"]
[]
[null,"    　BMIの算出",null,null,null,null,null,null,null,null,null,null,null,null,null,null,null,"エネルギー…","食事摂取基準の±10%を「適量」と表示"]
[null,"体重",null,"㎏",null,null,null,null,null,null,null,null,null,null,null,null,null,"たんぱく質…","食事摂取基準（推奨量）～目標量（20% エネルギー）を「適量」と表示"]
[null,"身長",null,"m",null,null,null,null,null,null,null,null,null,null,null,null,null,"カルシウム…","食事摂取基準（推奨量）の－10%～2500ｍg(耐容上限量）を「適量」と表示"]
[null,null,null,null,null,null,null,null,null,null,null,null,null,null,null,null,null,"　　　鉄　　 …","食事摂取基準の－10%～耐容上限量を「適量」と表示"]
[null,"★あなたのBMI",null,null,null,null,null,null,null,null,null,null,null,null,null,null,null,"食塩相当量…","1.5g（推定平均必要量）～食事摂取基準（目標量）の+10%を「適量」と表示"]
[null,null,{"$f":"IF(C26=\"\",\"\",C26/C27/C27)","v":""},null,null,null,null,null,null,null,null,null,null,null,null,null,null,"  脂質　　…","選択した献立の総エネルギーに占める脂質の割合が20～30％の範囲を「適量」と表示\n"]

{"sheet":"シミュレーション ","index":1,"n_rows":41,"n_cols":35,"rows_kept":41,"cut":false,"hidden":false,"merged":[[38,36,38,37],[68,25,69,25],[35,24,35,27],[36,33,36,34],[31,17,33,17],[34,17,36,17],[37,17,39,17],[25,21,30,21],[32,24,32,27],[33,24,33,27],[34,24,34,27],[4,30,5,32]]}
[]
[]
[]
[]
[]
[null,null,null,null,null,null,null,null,null,null,null,null,null,null,null,null,null,null,null,null,null,null,null,null,null,null,null,null,null,"氏名"]
[]
[null,null,null,null,null,null,null,null,null,null,null,null,null,null,null,null,null,null,null,null,null,null,"番号","個数","献立","内食価格(円)","中食価格(円)","外食価格(円)","ｴﾈﾙｷﾞｰ(kcal)","たんぱく質(g)","Ｃａ(mg)","Ｆｅ(mg)","食塩相当量(g)","脂質(g)"]
[null,null,null,null,null,null,null,null,null,null,null,null,null,null,null,null,null,null,null,null,null,null,null,null,{"$f":"IF($W9=\"\",\"\",VLOOKUP($W9,メニューデータ!$A$2:$K$102,2,FALSE))","v":""},{"$f":"IF($W9=\"\",\"\",$X9*VLOOKUP($W9,メニューデータ!$A$2:$K$102,3,FALSE))","v":""},{"$f":"IF($W9=\"\",\"\",$X9*VLOOKUP($W9,メニューデータ!$A$2:$K$102,4,FALSE))","v":""},{"$f":"IF($W9=\"\",\"\",$X9*VLOOKUP($W9,メニューデータ!$A$2:$K$102,5,FALSE))","v":""},{"$f":"IF($W9=\"\",\"\",$X9*VLOOKUP($W9,メニューデータ!$A$2:$K$102,6,FALSE))","v":""},{"$f":"IF($W9=\"\",\"\",$X9*VLOOKUP($W9,メニューデータ!$A$2:$K$102,7,FALSE))","v":""},{"$f":"IF($W9=\"\",\"\",$X9*VLOOKUP($W9,[1]メニューデータ!$A$2:$K$102,8,FALSE))","v":""},{"$f":"IF($W9=\"\",\"\",$X9*VLOOKUP($W9,メニューデータ!$A$2:$K$102,9,FALSE))","v":""},{"$f":"IF($W9=\"\",\"\",$X9*VLOOKUP($W9,メニューデータ!$A$2:$K$102,10,FALSE))","v":""},{"$f":"IF($W9=\"\",\"\",$X9*VLOOKUP($W9,メニューデータ!$A$2:$K$102,11,FALSE))","v":""}]
[null,null,null,null,{"$f":"使い方!C14&使い方!C15","v":""},null,null,null,null,null,null,null,null,null,null,null,null,null,null,null,null,null,null,null,{"$f":"IF($W10=\"\",\"\",VLOOKUP($W10,メニューデータ!$A$2:$K$102,2,FALSE))","v":""},{"$f":"IF($W10=\"\",\"\",$X10*VLOOKUP($W10,メニューデータ!$A$2:$K$102,3,FALSE))","v":""},{"$f":"IF($W10=\"\",\"\",$X10*VLOOKUP($W10,メニューデータ!$A$2:$K$102,4,FALSE))","v":""},{"$f":"IF($W10=\"\",\"\",$X10*VLOOKUP($W10,メニューデータ!$A$2:$K$102,5,FALSE))","v":""},{"$f":"IF($W10=\"\",\"\",$X10*VLOOKUP($W10,メニューデータ!$A$2:$K$102,6,FALSE))","v":""},{"$f":"IF($W10=\"\",\"\",$X10*VLOOKUP($W10,メニューデータ!$A$2:$K$102,7,FALSE))","v":""},{"$f":"IF($W10=\"\",\"\",$X10*VLOOKUP($W10,[1]メニューデータ!$A$2:$K$102,8,FALSE))","v":""},{"$f":"IF($W10=\"\",\"\",$X10*VLOOKUP($W10,メニューデータ!$A$2:$K$102,9,FALSE))","v":""},{"$f":"IF($W10=\"\",\"\",$X10*VLOOKUP($W10,メニューデータ!$A$2:$K$102,10,FALSE))","v":""},{"$f":"IF($W10=\"\",\"\",$X10*VLOOKUP($W10,メニューデータ!$A$2:$K$102,11,FALSE))","v":""}]
[null,null,null,null,{"$f":"IF(E10=\"\",\"\",VALUE(E10))","v":""},null,null,null,null,null,null,null,null,null,null,null,null,null,null,null,null,null,null,null,{"$f":"IF($W11=\"\",\"\",VLOOKUP($W11,メニューデータ!$A$2:$K$102,2,FALSE))","v":""},{"$f":"IF($W11=\"\",\"\",$X11*VLOOKUP($W11,メニューデータ!$A$2:$K$102,3,FALSE))","v":""},{"$f":"IF($W11=\"\",\"\",$X11*VLOOKUP($W11,メニューデータ!$A$2:$K$102,4,FALSE))","v":""},{"$f":"IF($W11=\"\",\"\",$X11*VLOOKUP($W11,メニューデータ!$A$2:$K$102,5,FALSE))","v":""},{"$f":"IF($W11=\"\",\"\",$X11*VLOOKUP($W11,メニューデータ!$A$2:$K$102,6,FALSE))","v":""},{"$f":"IF($W11=\"\",\"\",$X11*VLOOKUP($W11,メニューデータ!$A$2:$K$102,7,FALSE))","v":""},{"$f":"IF($W11=\"\",\"\",$X11*VLOOKUP($W11,[1]メニューデータ!$A$2:$K$102,8,FALSE))","v":""},{"$f":"IF($W11=\"\",\"\",$X11*VLOOKUP($W11,メニューデータ!$A$2:$K$102,9,FALSE))","v":""},{"$f":"IF($W11=\"\",\"\",$X11*VLOOKUP($W11,メニューデータ!$A$2:$K$102,10,FALSE))","v":""},{"$f":"IF($W11=\"\",\"\",$X11*VLOOKUP($W11,メニューデータ!$A$2:$K$102,11,FALSE))","v":""}]
[null,null,null,null,null,null,null,null,null,null,null,null,null,null,null,null,null,null,null,null,null,null,null,null,{"$f":"IF($W12=\"\",\"\",VLOOKUP($W12,メニューデータ!$A$2:$K$102,2,FALSE))","v":""},{"$f":"IF($W12=\"\",\"\",$X12*VLOOKUP($W12,メニューデータ!$A$2:$K$102,3,FALSE))","v":""},{"$f":"IF($W12=\"\",\"\",$X12*VLOOKUP($W12,メニューデータ!$A$2:$K$102,4,FALSE))","v":""},{"$f":"IF($W12=\"\",\"\",$X12*VLOOKUP($W12,メニューデータ!$A$2:$K$102,5,FALSE))","v":""},{"$f":"IF($W12=\"\",\"\",$X12*VLOOKUP($W12,メニューデータ!$A$2:$K$102,6,FALSE))","v":""},{"$f":"IF($W12=\"\",\"\",$X12*VLOOKUP($W12,メニューデータ!$A$2:$K$102,7,FALSE))","v":""},{"$f":"IF($W12=\"\",\"\",$X12*VLOOKUP($W12,[1]メニューデータ!$A$2:$K$102,8,FALSE))","v":""},{"$f":"IF($W12=\"\",\"\",$X12*VLOOKUP($W12,メニューデータ!$A$2:$K$102,9,FALSE))","v":""},{"$f":"IF($W12=\"\",\"\",$X12*VLOOKUP($W12,メニューデータ!$A$2:$K$102,10,FALSE))","v":""},{"$f":"IF($W12=\"\",\"\",$X12*VLOOKUP($W12,メニューデータ!$A$2:$K$102,11,FALSE))","v":""}]
[null,null,null,null,null,null,null,null,null,null,null,null,null,null,null,null,null,null,null,null,null,null,null,null,{"$f":"IF($W13=\"\",\"\",VLOOKUP($W13,メニューデータ!$A$2:$K$102,2,FALSE))","v":""},{"$f":"IF($W13=\"\",\"\",$X13*VLOOKUP($W13,メニューデータ!$A$2:$K$102,3,FALSE))","v":""},{"$f":"IF($W13=\"\",\"\",$X13*VLOOKUP($W13,メニューデータ!$A$2:$K$102,4,FALSE))","v":""},{"$f":"IF($W13=\"\",\"\",$X13*VLOOKUP($W13,メニューデータ!$A$2:$K$102,5,FALSE))","v":""},{"$f":"IF($W13=\"\",\"\",$X13*VLOOKUP($W13,メニューデータ!$A$2:$K$102,6,FALSE))","v":""},{"$f":"IF($W13=\"\",\"\",$X13*VLOOKUP($W13,メニューデータ!$A$2:$K$102,7,FALSE))","v":""},{"$f":"IF($W13=\"\",\"\",$X13*VLOOKUP($W13,[1]メニューデータ!$A$2:$K$102,8,FALSE))","v":""},{"$f":"IF($W13=\"\",\"\",$X13*VLOOKUP($W13,メニューデータ!$A$2:$K$102,9,FALSE))","v":""},{"$f":"IF($W13=\"\",\"\",$X13*VLOOKUP($W13,メニューデータ!$A$2:$K$102,10,FALSE))","v":""},{"$f":"IF($W13=\"\",\"\",$X13*VLOOKUP($W13,メニューデータ!$A$2:$K$102,11,FALSE))","v":""}]
[null,null,null,null,null,null,null,null,null,null,null,null,null,null,null,null,null,null,null,null,null,null,null,null,{"$f":"IF($W14=\"\",\"\",VLOOKUP($W14,メニューデータ!$A$2:$K$102,2,FALSE))","v":""},{"$f":"IF($W14=\"\",\"\",$X14*VLOOKUP($W14,メニューデータ!$A$2:$K$102,3,FALSE))","v":""},{"$f":"IF($W14=\"\",\"\",$X14*VLOOKUP($W14,メニューデータ!$A$2:$K$102,4,FALSE))","v":""},{"$f":"IF($W14=\"\",\"\",$X14*VLOOKUP($W14,メニューデータ!$A$2:$K$102,5,FALSE))","v":""},{"$f":"IF($W14=\"\",\"\",$X14*VLOOKUP($W14,メニューデータ!$A$2:$K$102,6,FALSE))","v":""},{"$f":"IF($W14=\"\",\"\",$X14*VLOOKUP($W14,メニューデータ!$A$2:$K$102,7,FALSE))","v":""},{"$f":"IF($W14=\"\",\"\",$X14*VLOOKUP($W14,[1]メニューデータ!$A$2:$K$102,8,FALSE))","v":""},{"$f":"IF($W14=\"\",\"\",$X14*VLOOKUP($W14,メニューデータ!$A$2:$K$102,9,FALSE))","v":""},{"$f":"IF($W14=\"\",\"\",$X14*VLOOKUP($W14,メニューデータ!$A$2:$K$102,10,FALSE))","v":""},{"$f":"IF($W14=\"\",\"\",$X14*VLOOKUP($W14,メニューデータ!$A$2:$K$102,11,FALSE))","v":""}]
[null,null,null,null,null,null,null,null,null,null,null,null,null,null,null,null,null,null,null,null,null,null,null,null,{"$f":"IF($W15=\"\",\"\",VLOOKUP($W15,メニューデータ!$A$2:$K$102,2,FALSE))","v":""},{"$f":"IF($W15=\"\",\"\",$X15*VLOOKUP($W15,メニューデータ!$A$2:$K$102,3,FALSE))","v":""},{"$f":"IF($W15=\"\",\"\",$X15*VLOOKUP($W15,メニューデータ!$A$2:$K$102,4,FALSE))","v":""},{"$f":"IF($W15=\"\",\"\",$X15*VLOOKUP($W15,メニューデータ!$A$2:$K$102,5,FALSE))","v":""},{"$f":"IF($W15=\"\",\"\",$X15*VLOOKUP($W15,メニューデータ!$A$2:$K$102,6,FALSE))","v":""},{"$f":"IF($W15=\"\",\"\",$X15*VLOOKUP($W15,メニューデータ!$A$2:$K$102,7,FALSE))","v":""},{"$f":"IF($W15=\"\",\"\",$X15*VLOOKUP($W15,[1]メニューデータ!$A$2:$K$102,8,FALSE))","v":""},{"$f":"IF($W15=\"\",\"\",$X15*VLOOKUP($W15,メニューデータ!$A$2:$K$102,9,FALSE))","v":""},{"$f":"IF($W15=\"\",\"\",$X15*VLOOKUP($W15,メニューデータ!$A$2:$K$102,10,FALSE))","v":""},{"$f":"IF($W15=\"\",\"\",$X15*VLOOKUP($W15,メニューデータ!$A$2:$K$102,11,FALSE))","v":""}]
[null,null,null,null,null,null,null,null,null,null,null,null,null,null,null,null,null,null,null,null,null,null,null,null,{"$f":"IF($W16=\"\",\"\",VLOOKUP($W16,メニューデータ!$A$2:$K$102,2,FALSE))","v":""},{"$f":"IF($W16=\"\",\"\",$X16*VLOOKUP($W16,メニューデータ!$A$2:$K$102,3,FALSE))","v":""},{"$f":"IF($W16=\"\",\"\",$X16*VLOOKUP($W16,メニューデータ!$A$2:$K$102,4,FALSE))","v":""},{"$f":"IF($W16=\"\",\"\",$X16*VLOOKUP($W16,メニューデータ!$A$2:$K$102,5,FALSE))","v":""},{"$f":"IF($W16=\"\",\"\",$X16*VLOOKUP($W16,メニューデータ!$A$2:$K$102,6,FALSE))","v":""},{"$f":"IF($W16=\"\",\"\",$X16*VLOOKUP($W16,メニューデータ!$A$2:$K$102,7,FALSE))","v":""},{"$f":"IF($W16=\"\",\"\",$X16*VLOOKUP($W16,[1]メニューデータ!$A$2:$K$102,8,FALSE))","v":""},{"$f":"IF($W16=\"\",\"\",$X16*VLOOKUP($W16,メニューデータ!$A$2:$K$102,9,FALSE))","v":""},{"$f":"IF($W16=\"\",\"\",$X16*VLOOKUP($W16,メニューデータ!$A$2:$K$102,10,FALSE))","v":""},{"$f":"IF($W16=\"\",\"\",$X16*VLOOKUP($W16,メニューデータ!$A$2:$K$102,11,FALSE))","v":""}]
[null,null,null,null,null,null,null,null,null,null,null,null,null,null,null,null,null,null,null,null,null,null,null,null,{"$f":"IF($W17=\"\",\"\",VLOOKUP($W17,メニューデータ!$A$2:$K$102,2,FALSE))","v":""},{"$f":"IF($W17=\"\",\"\",$X17*VLOOKUP($W17,メニューデータ!$A$2:$K$102,3,FALSE))","v":""},{"$f":"IF($W17=\"\",\"\",$X17*VLOOKUP($W17,メニューデータ!$A$2:$K$102,4,FALSE))","v":""},{"$f":"IF($W17=\"\",\"\",$X17*VLOOKUP($W17,メニューデータ!$A$2:$K$102,5,FALSE))","v":""},{"$f":"IF($W17=\"\",\"\",$X17*VLOOKUP($W17,メニューデータ!$A$2:$K$102,6,FALSE))","v":""},{"$f":"IF($W17=\"\",\"\",$X17*VLOOKUP($W17,メニューデータ!$A$2:$K$102,7,FALSE))","v":""},{"$f":"IF($W17=\"\",\"\",$X17*VLOOKUP($W17,[1]メニューデータ!$A$2:$K$102,8,FALSE))","v":""},{"$f":"IF($W17=\"\",\"\",$X17*VLOOKUP($W17,メニューデータ!$A$2:$K$102,9,FALSE))","v":""},{"$f":"IF($W17=\"\",\"\",$X17*VLOOKUP($W17,メニューデータ!$A$2:$K$102,10,FALSE))","v":""},{"$f":"IF($W17=\"\",\"\",$X17*VLOOKUP($W17,メニューデータ!$A$2:$K$102,11,FALSE))","v":""}]
[null,null,null,null,null,null,null,null,null,null,null,null,null,null,null,null,null,null,null,null,null,null,null,null,{"$f":"IF($W18=\"\",\"\",VLOOKUP($W18,メニューデータ!$A$2:$K$102,2,FALSE))","v":""},{"$f":"IF($W18=\"\",\"\",$X18*VLOOKUP($W18,メニューデータ!$A$2:$K$102,3,FALSE))","v":""},{"$f":"IF($W18=\"\",\"\",$X18*VLOOKUP($W18,メニューデータ!$A$2:$K$102,4,FALSE))","v":""},{"$f":"IF($W18=\"\",\"\",$X18*VLOOKUP($W18,メニューデータ!$A$2:$K$102,5,FALSE))","v":""},{"$f":"IF($W18=\"\",\"\",$X18*VLOOKUP($W18,メニューデータ!$A$2:$K$102,6,FALSE))","v":""},{"$f":"IF($W18=\"\",\"\",$X18*VLOOKUP($W18,メニューデータ!$A$2:$K$102,7,FALSE))","v":""},{"$f":"IF($W18=\"\",\"\",$X18*VLOOKUP($W18,[1]メニューデータ!$A$2:$K$102,8,FALSE))","v":""},{"$f":"IF($W18=\"\",\"\",$X18*VLOOKUP($W18,メニューデータ!$A$2:$K$102,9,FALSE))","v":""},{"$f":"IF($W18=\"\",\"\",$X18*VLOOKUP($W18,メニューデータ!$A$2:$K$102,10,FALSE))","v":""},{"$f":"IF($W18=\"\",\"\",$X18*VLOOKUP($W18,メニューデータ!$A$2:$K$102,11,FALSE))","v":""}]
[null,null,null,null,null,null,null,null,null,null,null,null,null,null,null,null,null,null,null,null,null,null,null,null,{"$f":"IF($W19=\"\",\"\",VLOOKUP($W19,メニューデータ!$A$2:$K$102,2,FALSE))","v":""},{"$f":"IF($W19=\"\",\"\",$X19*VLOOKUP($W19,メニューデータ!$A$2:$K$102,3,FALSE))","v":""},{"$f":"IF($W19=\"\",\"\",$X19*VLOOKUP($W19,メニューデータ!$A$2:$K$102,4,FALSE))","v":""},{"$f":"IF($W19=\"\",\"\",$X19*VLOOKUP($W19,メニューデータ!$A$2:$K$102,5,FALSE))","v":""},{"$f":"IF($W19=\"\",\"\",$X19*VLOOKUP($W19,メニューデータ!$A$2:$K$102,6,FALSE))","v":""},{"$f":"IF($W19=\"\",\"\",$X19*VLOOKUP($W19,メニューデータ!$A$2:$K$102,7,FALSE))","v":""},{"$f":"IF($W19=\"\",\"\",$X19*VLOOKUP($W19,[1]メニューデータ!$A$2:$K$102,8,FALSE))","v":""},{"$f":"IF($W19=\"\",\"\",$X19*VLOOKUP($W19,メニューデータ!$A$2:$K$102,9,FALSE))","v":""},{"$f":"IF($W19=\"\",\"\",$X19*VLOOKUP($W19,メニューデータ!$A$2:$K$102,10,FALSE))","v":""},{"$f":"IF($W19=\"\",\"\",$X19*VLOOKUP($W19,メニューデータ!$A$2:$K$102,11,FALSE))","v":""}]
[null,null,null,null,null,null,null,null,null,null,null,null,null,null,null,null,null,null,null,null,null,null,null,null,{"$f":"IF($W20=\"\",\"\",VLOOKUP($W20,メニューデータ!$A$2:$K$102,2,FALSE))","v":""},{"$f":"IF($W20=\"\",\"\",$X20*VLOOKUP($W20,メニューデータ!$A$2:$K$102,3,FALSE))","v":""},{"$f":"IF($W20=\"\",\"\",$X20*VLOOKUP($W20,メニューデータ!$A$2:$K$102,4,FALSE))","v":""},{"$f":"IF($W20=\"\",\"\",$X20*VLOOKUP($W20,メニューデータ!$A$2:$K$102,5,FALSE))","v":""},{"$f":"IF($W20=\"\",\"\",$X20*VLOOKUP($W20,メニューデータ!$A$2:$K$102,6,FALSE))","v":""},{"$f":"IF($W20=\"\",\"\",$X20*VLOOKUP($W20,メニューデータ!$A$2:$K$102,7,FALSE))","v":""},{"$f":"IF($W20=\"\",\"\",$X20*VLOOKUP($W20,[1]メニューデータ!$A$2:$K$102,8,FALSE))","v":""},{"$f":"IF($W20=\"\",\"\",$X20*VLOOKUP($W20,メニューデータ!$A$2:$K$102,9,FALSE))","v":""},{"$f":"IF($W20=\"\",\"\",$X20*VLOOKUP($W20,メニューデータ!$A$2:$K$102,10,FALSE))","v":""},{"$f":"IF($W20=\"\",\"\",$X20*VLOOKUP($W20,メニューデータ!$A$2:$K$102,11,FALSE))","v":""}]
[null,null,null,null,null,null,null,null,null,null,null,null,null,null,null,null,null,null,null,null,null,null,null,null,{"$f":"IF($W21=\"\",\"\",VLOOKUP($W21,メニューデータ!$A$2:$K$102,2,FALSE))","v":""},{"$f":"IF($W21=\"\",\"\",$X21*VLOOKUP($W21,メニューデータ!$A$2:$K$102,3,FALSE))","v":""},{"$f":"IF($W21=\"\",\"\",$X21*VLOOKUP($W21,メニューデータ!$A$2:$K$102,4,FALSE))","v":""},{"$f":"IF($W21=\"\",\"\",$X21*VLOOKUP($W21,メニューデータ!$A$2:$K$102,5,FALSE))","v":""},{"$f":"IF($W21=\"\",\"\",$X21*VLOOKUP($W21,メニューデータ!$A$2:$K$102,6,FALSE))","v":""},{"$f":"IF($W21=\"\",\"\",$X21*VLOOKUP($W21,メニューデータ!$A$2:$K$102,7,FALSE))","v":""},{"$f":"IF($W21=\"\",\"\",$X21*VLOOKUP($W21,[1]メニューデータ!$A$2:$K$102,8,FALSE))","v":""},{"$f":"IF($W21=\"\",\"\",$X21*VLOOKUP($W21,メニューデータ!$A$2:$K$102,9,FALSE))","v":""},{"$f":"IF($W21=\"\",\"\",$X21*VLOOKUP($W21,メニューデータ!$A$2:$K$102,10,FALSE))","v":""},{"$f":"IF($W21=\"\",\"\",$X21*VLOOKUP($W21,メニューデータ!$A$2:$K$102,11,FALSE))","v":""}]
[null,null,null,null,null,null,null,null,null,null,null,null,null,null,null,null,null,null,null,null,null,null,null,null,{"$f":"IF($W22=\"\",\"\",VLOOKUP($W22,メニューデータ!$A$2:$K$102,2,FALSE))","v":""},{"$f":"IF($W22=\"\",\"\",$X22*VLOOKUP($W22,メニューデータ!$A$2:$K$102,3,FALSE))","v":""},{"$f":"IF($W22=\"\",\"\",$X22*VLOOKUP($W22,メニューデータ!$A$2:$K$102,4,FALSE))","v":""},{"$f":"IF($W22=\"\",\"\",$X22*VLOOKUP($W22,メニューデータ!$A$2:$K$102,5,FALSE))","v":""},{"$f":"IF($W22=\"\",\"\",$X22*VLOOKUP($W22,メニューデータ!$A$2:$K$102,6,FALSE))","v":""},{"$f":"IF($W22=\"\",\"\",$X22*VLOOKUP($W22,メニューデータ!$A$2:$K$102,7,FALSE))","v":""},{"$f":"IF($W22=\"\",\"\",$X22*VLOOKUP($W22,[1]メニューデータ!$A$2:$K$102,8,FALSE))","v":""},{"$f":"IF($W22=\"\",\"\",$X22*VLOOKUP($W22,メニューデータ!$A$2:$K$102,9,FALSE))","v":""},{"$f":"IF($W22=\"\",\"\",$X22*VLOOKUP($W22,メニューデータ!$A$2:$K$102,10,FALSE))","v":""},{"$f":"IF($W22=\"\",\"\",$X22*VLOOKUP($W22,メニューデータ!$A$2:$K$102,11,FALSE))","v":""}]
[null,null,null,null,null,null,null,null,null,null,null,null,null,null,null,null,null,null,null,null,"　",null,null,null,{"$f":"IF($W23=\"\",\"\",VLOOKUP($W23,メニューデータ!$A$2:$K$102,2,FALSE))","v":""},{"$f":"IF($W23=\"\",\"\",$X23*VLOOKUP($W23,メニューデータ!$A$2:$K$102,3,FALSE))","v":""},{"$f":"IF($W23=\"\",\"\",$X23*VLOOKUP($W23,メニューデータ!$A$2:$K$102,4,FALSE))","v":""},{"$f":"IF($W23=\"\",\"\",$X23*VLOOKUP($W23,メニューデータ!$A$2:$K$102,5,FALSE))","v":""},{"$f":"IF($W23=\"\",\"\",$X23*VLOOKUP($W23,メニューデータ!$A$2:$K$102,6,FALSE))","v":""},{"$f":"IF($W23=\"\",\"\",$X23*VLOOKUP($W23,メニューデータ!$A$2:$K$102,7,FALSE))","v":""},{"$f":"IF($W23=\"\",\"\",$X23*VLOOKUP($W23,[1]メニューデータ!$A$2:$K$102,8,FALSE))","v":""},{"$f":"IF($W23=\"\",\"\",$X23*VLOOKUP($W23,メニューデータ!$A$2:$K$102,9,FALSE))","v":""},{"$f":"IF($W23=\"\",\"\",$X23*VLOOKUP($W23,メニューデータ!$A$2:$K$102,10,FALSE))","v":""},{"$f":"IF($W23=\"\",\"\",$X23*VLOOKUP($W23,メニューデータ!$A$2:$K$102,11,FALSE))","v":""}]
[null,null,null,null,null,null,null,null,null,null,null,null,null,null,null,null,null,null,null,null,null,null,null,null,{"$f":"IF($W24=\"\",\"\",VLOOKUP($W24,メニューデータ!$A$2:$K$102,2,FALSE))","v":""},{"$f":"IF($W24=\"\",\"\",$X24*VLOOKUP($W24,メニューデータ!$A$2:$K$102,3,FALSE))","v":""},{"$f":"IF($W24=\"\",\"\",$X24*VLOOKUP($W24,メニューデータ!$A$2:$K$102,4,FALSE))","v":""},{"$f":"IF($W24=\"\",\"\",$X24*VLOOKUP($W24,メニューデータ!$A$2:$K$102,5,FALSE))","v":""},{"$f":"IF($W24=\"\",\"\",$X24*VLOOKUP($W24,メニューデータ!$A$2:$K$102,6,FALSE))","v":""},{"$f":"IF($W24=\"\",\"\",$X24*VLOOKUP($W24,メニューデータ!$A$2:$K$102,7,FALSE))","v":""},{"$f":"IF($W24=\"\",\"\",$X24*VLOOKUP($W24,[1]メニューデータ!$A$2:$K$102,8,FALSE))","v":""},{"$f":"IF($W24=\"\",\"\",$X24*VLOOKUP($W24,メニューデータ!$A$2:$K$102,9,FALSE))","v":""},{"$f":"IF($W24=\"\",\"\",$X24*VLOOKUP($W24,メニューデータ!$A$2:$K$100,9,FALSE))","v":""},{"$f":"IF($W24=\"\",\"\",$X24*VLOOKUP($W24,メニューデータ!$A$2:$K$102,11,FALSE))","v":""}]
[]
[null,null,null,null,null,null,null,null,null,null,null,null,null,null,null,null,null,null,null,null,null,"間食　　　　　　　　夜食",null,null,{"$f":"IF($W26=\"\",\"\",VLOOKUP($W26,メニューデータ!$A$2:$K$102,2,FALSE))","v":""},{"$f":"IF($W26=\"\",\"\",$X26*VLOOKUP($W26,メニューデータ!$A$2:$K$102,3,FALSE))","v":""},{"$f":"IF($W26=\"\",\"\",$X26*VLOOKUP($W26,メニューデータ!$A$2:$K$102,4,FALSE))","v":""},{"$f":"IF($W26=\"\",\"\",$X26*VLOOKUP($W26,メニューデータ!$A$2:$K$102,5,FALSE))","v":""},{"$f":"IF($W26=\"\",\"\",$X26*VLOOKUP($W26,メニューデータ!$A$2:$K$102,6,FALSE))","v":""},{"$f":"IF($W26=\"\",\"\",$X26*VLOOKUP($W26,メニューデータ!$A$2:$K$102,7,FALSE))","v":""},{"$f":"IF($W26=\"\",\"\",$X26*VLOOKUP($W26,[1]メニューデータ!$A$2:$K$102,8,FALSE))","v":""},{"$f":"IF($W26=\"\",\"\",$X26*VLOOKUP($W26,メニューデータ!$A$2:$K$102,9,FALSE))","v":""},{"$f":"IF($W26=\"\",\"\",$X26*VLOOKUP($W26,メニューデータ!$A$2:$K$102,10,FALSE))","v":""},{"$f":"IF($W26=\"\",\"\",$X26*VLOOKUP($W26,メニューデータ!$A$2:$K$102,11,FALSE))","v":""}]
[null,null,null,null,null,null,null,null,null,null,null,null,null,null,null,null,null,null,null,null,null,null,null,null,{"$f":"IF($W27=\"\",\"\",VLOOKUP($W27,メニューデータ!$A$2:$K$102,2,FALSE))","v":""},{"$f":"IF($W27=\"\",\"\",$X27*VLOOKUP($W27,メニューデータ!$A$2:$K$102,3,FALSE))","v":""},{"$f":"IF($W27=\"\",\"\",$X27*VLOOKUP($W27,メニューデータ!$A$2:$K$102,4,FALSE))","v":""},{"$f":"IF($W27=\"\",\"\",$X27*VLOOKUP($W27,メニューデータ!$A$2:$K$102,5,FALSE))","v":""},{"$f":"IF($W27=\"\",\"\",$X27*VLOOKUP($W27,メニューデータ!$A$2:$K$102,6,FALSE))","v":""},{"$f":"IF($W27=\"\",\"\",$X27*VLOOKUP($W27,メニューデータ!$A$2:$K$102,7,FALSE))","v":""},{"$f":"IF($W27=\"\",\"\",$X27*VLOOKUP($W27,[1]メニューデータ!$A$2:$K$102,8,FALSE))","v":""},{"$f":"IF($W27=\"\",\"\",$X27*VLOOKUP($W27,メニューデータ!$A$2:$K$102,9,FALSE))","v":""},{"$f":"IF($W27=\"\",\"\",$X27*VLOOKUP($W27,メニューデータ!$A$2:$K$102,10,FALSE))","v":""},{"$f":"IF($W27=\"\",\"\",$X27*VLOOKUP($W27,メニューデータ!$A$2:$K$102,11,FALSE))","v":""}]
[null,null,null,null,null,null,null,null,null,null,null,null,null,null,null,null,null,null,null,null,null,null,null,null,{"$f":"IF($W28=\"\",\"\",VLOOKUP($W28,メニューデータ!$A$2:$K$102,2,FALSE))","v":""},{"$f":"IF($W28=\"\",\"\",$X28*VLOOKUP($W28,メニューデータ!$A$2:$K$102,3,FALSE))","v":""},{"$f":"IF($W28=\"\",\"\",$X28*VLOOKUP($W28,メニューデータ!$A$2:$K$102,4,FALSE))","v":""},{"$f":"IF($W28=\"\",\"\",$X28*VLOOKUP($W28,メニューデータ!$A$2:$K$102,5,FALSE))","v":""},{"$f":"IF($W28=\"\",\"\",$X28*VLOOKUP($W28,メニューデータ!$A$2:$K$102,6,FALSE))","v":""},{"$f":"IF($W28=\"\",\"\",$X28*VLOOKUP($W28,メニューデータ!$A$2:$K$102,7,FALSE))","v":""},{"$f":"IF($W28=\"\",\"\",$X28*VLOOKUP($W28,[1]メニューデータ!$A$2:$K$102,8,FALSE))","v":""},{"$f":"IF($W28=\"\",\"\",$X28*VLOOKUP($W28,メニューデータ!$A$2:$K$102,9,FALSE))","v":""},{"$f":"IF($W28=\"\",\"\",$X28*VLOOKUP($W28,メニューデータ!$A$2:$K$102,10,FALSE))","v":""},{"$f":"IF($W28=\"\",\"\",$X28*VLOOKUP($W28,メニューデータ!$A$2:$K$102,11,FALSE))","v":""}]
[null,null,null,null,null,null,null,null,null,null,null,null,null,null,null,null,null,null,null,null,null,null,null,null,{"$f":"IF($W29=\"\",\"\",VLOOKUP($W29,メニューデータ!$A$2:$K$102,2,FALSE))","v":""},{"$f":"IF($W29=\"\",\"\",$X29*VLOOKUP($W29,メニューデータ!$A$2:$K$102,3,FALSE))","v":""},{"$f":"IF($W29=\"\",\"\",$X29*VLOOKUP($W29,メニューデータ!$A$2:$K$102,4,FALSE))","v":""},{"$f":"IF($W29=\"\",\"\",$X29*VLOOKUP($W29,メニューデータ!$A$2:$K$102,5,FALSE))","v":""},{"$f":"IF($W29=\"\",\"\",$X29*VLOOKUP($W29,メニューデータ!$A$2:$K$102,6,FALSE))","v":""},{"$f":"IF($W29=\"\",\"\",$X29*VLOOKUP($W29,メニューデータ!$A$2:$K$102,7,FALSE))","v":""},{"$f":"IF($W29=\"\",\"\",$X29*VLOOKUP($W29,[1]メニューデータ!$A$2:$K$102,8,FALSE))","v":""},{"$f":"IF($W29=\"\",\"\",$X29*VLOOKUP($W29,メニューデータ!$A$2:$K$102,9,FALSE))","v":""},{"$f":"IF($W29=\"\",\"\",$X29*VLOOKUP($W29,メニューデータ!$A$2:$K$102,10,FALSE))","v":""},{"$f":"IF($W29=\"\",\"\",$X29*VLOOKUP($W29,メニューデータ!$A$2:$K$102,11,FALSE))","v":""}]
[null,null,null,null,null,null,null,null,null,null,null,null,null,null,null,null,null,null,null,null,null,null,null,null,{"$f":"IF($W30=\"\",\"\",VLOOKUP($W30,メニューデータ!$A$2:$K$102,2,FALSE))","v":""},{"$f":"IF($W30=\"\",\"\",$X30*VLOOKUP($W30,メニューデータ!$A$2:$K$102,3,FALSE))","v":""},{"$f":"IF($W30=\"\",\"\",$X30*VLOOKUP($W30,メニューデータ!$A$2:$K$102,4,FALSE))","v":""},{"$f":"IF($W30=\"\",\"\",$X30*VLOOKUP($W30,メニューデータ!$A$2:$K$102,5,FALSE))","v":""},{"$f":"IF($W30=\"\",\"\",$X30*VLOOKUP($W30,メニューデータ!$A$2:$K$102,6,FALSE))","v":""},{"$f":"IF($W30=\"\",\"\",$X30*VLOOKUP($W30,メニューデータ!$A$2:$K$102,7,FALSE))","v":""},{"$f":"IF($W30=\"\",\"\",$X30*VLOOKUP($W30,[1]メニューデータ!$A$2:$K$102,8,FALSE))","v":""},{"$f":"IF($W30=\"\",\"\",$X30*VLOOKUP($W30,メニューデータ!$A$2:$K$102,9,FALSE))","v":""},{"$f":"IF($W30=\"\",\"\",$X30*VLOOKUP($W30,メニューデータ!$A$2:$K$102,10,FALSE))","v":""},{"$f":"IF($W30=\"\",\"\",$X30*VLOOKUP($W30,メニューデータ!$A$2:$K$102,11,FALSE))","v":""}]
[null,null,null,null,null,null,null,null,null,null,null,null,null,null,null,null,null,null,null,null,null,null,null,null,{"$f":"IF($W31=\"\",\"\",VLOOKUP($W31,メニューデータ!$A$2:$K$102,2,FALSE))","v":""},{"$f":"IF($W31=\"\",\"\",$X31*VLOOKUP($W31,メニューデータ!$A$2:$K$102,3,FALSE))","v":""},{"$f":"IF($W31=\"\",\"\",$X31*VLOOKUP($W31,メニューデータ!$A$2:$K$102,4,FALSE))","v":""},{"$f":"IF($W31=\"\",\"\",$X31*VLOOKUP($W31,メニューデータ!$A$2:$K$102,5,FALSE))","v":""},{"$f":"IF($W31=\"\",\"\",$X31*VLOOKUP($W31,メニューデータ!$A$2:$K$102,6,FALSE))","v":""},{"$f":"IF($W31=\"\",\"\",$X31*VLOOKUP($W31,メニューデータ!$A$2:$K$102,7,FALSE))","v":""},{"$f":"IF($W31=\"\",\"\",$X31*VLOOKUP($W31,[1]メニューデータ!$A$2:$K$102,8,FALSE))","v":""},{"$f":"IF($W31=\"\",\"\",$X31*VLOOKUP($W31,メニューデータ!$A$2:$K$102,9,FALSE))","v":""},{"$f":"IF($W31=\"\",\"\",$X31*VLOOKUP($W31,メニューデータ!$A$2:$K$102,10,FALSE))","v":""},{"$f":"IF($W31=\"\",\"\",$X31*VLOOKUP($W31,メニューデータ!$A$2:$K$102,11,FALSE))","v":""}]
[null,null,null,null,null,null,null,null,null,null,null,null,null,null,null,null,null,"内食の　　　　　１日合計","朝昼夕食",{"$f":"IF(SUM(Z9:Z24)=0,\"\",SUM(Z9:Z24))","v":""},"円",null,null,null,null,null,null,null,"ｴﾈﾙｷﾞｰ(kcal)","たんぱく質(g)","Ｃａ(mg)","Ｆｅ(mg)","食塩相当量(g)","脂質(g)"]
[null,null,null,null,null,null,null,null,null,null,null,null,null,null,null,null,null,null,"間食・夜食",{"$f":"IF(SUM(Z26:Z31)=0,\"\",SUM(Z26:Z31))","v":""},"円",null,null,null,"選択した食事の栄養素合計",null,null,null,{"$f":"IF(SUM(AC9:AC24)=0,\"\",SUM(AC9:AC24))","v":""},{"$f":"IF(SUM(AD9:AD24)=0,\"\",SUM(AD9:AD24))","v":""},"","",{"$f":"IF(SUM(AG9:AG24)=0,\"\",SUM(AG9:AG24))","v":""},""]
[null,null,null,null,null,null,null,null,null,null,null,null,null,null,null,null,null,null,"食費総合計",{"$f":"IF(SUM(T32:T33)=0,\"\",SUM(T32:T33))","v":""},"円",null,null,null,"選択した間食・夜食の栄養素合計",null,null,null,{"$f":"IF(SUM(AC26:AC31)=0,\"\",SUM(AC26:AC31))","v":""},{"$f":"IF(SUM(AD26:AD31)=0,\"\",SUM(AD26:AD31))","v":""},"","","",""]
[null,null,null,null,null,null,null,null,null,null,null,null,null,null,null,null,null,"中食の　　　　　１日合計","朝昼夕食",{"$f":"IF(SUM(AA9:AA24)=0,\"\",SUM(AA9:AA24))","v":""},"円",null,null,null,"選択した１日分の栄養素合計",null,null,null,{"$f":"IF(SUM(AC33:AC34)=0,\"\",SUM(AC33:AC34))","v":""},"","","",{"$f":"IF(SUM(AG33:AG34)=0,\"\",SUM(AG33:AG34))","v":""},""]
[null,null,null,null,null,null,null,null,null,null,null,null,null,null,null,null,null,null,"間食・夜食",{"$f":"IF(SUM(AA26:AA31)=0,\"\",SUM(AA26:AA31))","v":""},"円",null,null,null,"あなたの食事摂取基準",null,null,null,{"$f":"IF($E11=\"\",\"\",VLOOKUP($E11,メニューデータ!$N$3:$T$38,2,FALSE))","v":""},{"$f":"IF($E11=\"\",\"\",VLOOKUP($E11,メニューデータ!$N$3:$T$38,3,FALSE))","v":""},{"$f":"IF($E11=\"\",\"\",VLOOKUP($E11,メニューデータ!$N$3:$T$38,4,FALSE))","v":""},{"$f":"IF($E11=\"\",\"\",VLOOKUP($E11,メニューデータ!$N$3:$T$38,5,FALSE))","v":""},{"$f":"IF($E11=\"\",\"\",VLOOKUP($E11,メニューデータ!$N$3:$T$38,6,FALSE))","v":""},{"$f":"IF($E11=\"\",\"\",0.2*AC36/9)","v":""},{"$f":"\"～\"&IF($E11=\"\",\"\",ROUND(0.3*AC36/9,1))","v":"～"}]
[null,null,null,null,null,null,null,null,null,null,null,null,null,null,null,null,null,null,"食費総合計",{"$f":"IF(SUM(T35:T36)=0,\"\",SUM(T35:T36))","v":""},"円",null,null,null,null,null,null,"過不足",{"$f":"IF($AC35=\"\",\"\",AC35-AC36)","v":""},{"$f":"IF(AD35=\"\",\"\",AD35-AD36)","v":""},{"$f":"IF(AE35=\"\",\"\",AE35-AE36)","v":""},{"$f":"IF($AF35=\"\",\"\",AF35-AF36)","v":""},{"$f":"IF($AF35=\"\",\"\",AG35-AG36)","v":""}]
[null,null,null,null,null,null,null,null,null,null,null,null,null,null,null,null,null,"外食の　　　　　１日合計","朝昼夕食",{"$f":"IF(SUM(AB9:AB24)=0,\"\",SUM(AB9:AB24))","v":""},"円",null,null,null,null,null,null,null,{"$f":"AC36*0.1","v":{"$error":"#VALUE!"}},{"$f":"AC35*0.2/4-AD36","v":{"$error":"#VALUE!"}},{"$f":"2500-AE36","v":{"$error":"#VALUE!"}},{"$f":"-AF36*0.1","v":{"$error":"#VALUE!"}},{"$f":"-(AG36-1.5)","v":{"$error":"#VALUE!"}},{"$f":"IF(AH35=\"\",\"\",VALUE(AH35))","v":""},{"$f":"IF(AC35=\"\",\"\",0.2*AC35/9)","v":""}]
[null,null,null,null,null,null,null,null,null,null,null,null,null,null,null,null,null,null,"間食・夜食",{"$f":"IF(SUM(AB26:AB31)=0,\"\",SUM(AB26:AB31))","v":""},"円",null,null,null,null,null,"グラフのためのデータ：最終版では白にする",null,null,null,{"$f":"AE36*0.1","v":{"$error":"#VALUE!"}},{"$f":"IF($E11=\"\",\"\",VLOOKUP($E11,メニューデータ!$N$3:$T$38,7,FALSE))-AF36","v":{"$error":"#VALUE!"}},{"$f":"AG36*0.1","v":{"$error":"#VALUE!"}},null,{"$f":"IF(AH35=\"\",\"\",0.3*AC35/9)","v":""}]
[null,null,null,null,null,null,null,null,null,null,null,null,null,null,null,null,null,null,"食費総合計",{"$f":"IF(SUM(T38:T39)=0,\"\",SUM(T38:T39))","v":""},"円",null,null,null,null,null,null,"間食・夜食ｴﾈﾙｷﾞｰ比(%)",{"$f":"$AC$34*100/$AC$35","v":{"$error":"#VALUE!"}}]
[null,null,null,null,null,null,null,null,null,null,null,null,null,null,null,null,null,null,null,null,null,null,null,null,null,null,null,"食事",{"$f":"100-AC40","v":{"$error":"#VALUE!"}}]

{"sheet":"メニューデータ","index":2,"n_rows":102,"n_cols":20,"rows_kept":102,"cut":false,"hidden":false,"merged":[]}
["メニュー\nナンバー","メニュー","内食価格(円)","中食価格(円)","外食価格(円)","エネルギー\n(kcal)","たんぱく質\n(ｇ)","Ｃａ(mg)","Ｆｅ(mg)","食塩相当量(g)","脂質(g)",null,null,"食事摂取基準"]
[1,"トースト",73.44,190,190,304,8.9499999999999993,23.2,0.51,1.35,10.58,null,null,"年齢/性別","エネルギー(kcal)","たんぱく質(ｇ)","Ｃａ(mg)","Ｆｅ(mg)","食塩相当量(g)","Fe耐容上限量(mg/日)"]
[2,"ハンバーガー",150.12,220,220,371,15.31,46.14,1.3,1.74,19.25,null,null,121,2600,60,1000,10,7,40]
[3,"肉まん",57.24,124,170,242,7.51,20.89,0.59,0.52,6.15,null,null,122,2400,55,800,12,6.5,40]
[4,"おにぎり",85.320000000000007,206,405,348,8.3840000000000003,26.94,0.56000000000000005,2.65,1.7629999999999999,null,null,131,2600,60,1000,10,7,40]
[5,"ロールパン",64.800000000000011,130,200,311,10.527000000000001,67.424999999999997,0.96016666666666661,0.1245,5.9163333333333332,null,null,132,2400,55,800,12,6.5,40]
[6,"たこ焼き",140.4,315,480,278,13.75,51.57,1.01,2.72,10.309399999999998,null,null,141,2600,60,1000,10,7,40]
[7,"ピザ",270,250,399,320,13.87,127.64,1.07,0.92363333333333331,15.8,null,null,142,2400,55,800,12,6.5,40]
[8,"ご飯",29.160000000000004,121,200,250,4,4.8000000000000007,0.16000000000000003,0,0.48,null,null,151,2800,65,800,10,7.5,50]
[9,"炊き込みご飯",181.44,217,300,349,12.38,38.950000000000003,1.26,1.48,3.81,null,null,152,2300,55,650,10.5,6.5,40]
[10,"にぎり寿司",336.96000000000004,648,1040,443,19.649999999999999,32.56,0.96,2.8,5.04,null,null,161,2800,65,800,10,7.5,50]
[11,"いなりずし",76.680000000000007,178,224,446,15.349999999999998,203.04,2.16,1.99,18.306000000000001,null,null,162,2300,55,650,10.5,6.5,40]
[12,"ラーメン",253.8,428,633,413,21.38,48.12,1.59,4.8154999999999992,7.4,null,null,171,2800,65,800,10,7.5,50]
[13,"カップラーメン",108,108,300,351,10.5,105,0,4.9000000000000004,14.6,null,null,172,2300,55,650,10.5,6.5,40]
[14,"サンドイッチ",193.32000000000002,264,560,539,17.82,49.31,1.28,3.26,32.270000000000003,null,null,181,2650,65,800,7.5,7.5,50]
[15,"焼鮭弁当",208.44000000000003,488,1203,548,23.61,100.39,1.7,1.7035,14.043000000000001,null,null,182,2000,50,650,10.5,6.5,40]
[16,"カレーライス",245.16000000000003,430,555,754,22.8,50.7,1.77,3.14,26.770799999999998,null,null,191,2650,65,800,7.5,7.5,50]
[17,"親子丼",125.28,342,780,492,17.55,42.37,1.44,1.7752000000000003,10.01,null,null,192,2000,50,650,10.5,6.5,40]
[18,"カツ丼",268.92,526,864,688,27.01,47.9,1.71,2.3651,24,null,null,201,2650,65,800,7.5,7.5,50]
[19,"牛丼",362.88,377,347,515,24.430999999999997,34.369999999999997,2.95,3.37,6.15,null,null,202,2000,50,650,10.5,6.5,40]
[20,"おかゆ",11.88,130,657,103,1.8299999999999998,1.5,0.24,0,0.27,null,null,211,2650,65,800,7.5,7.5,50]
[21,"きつねうどん",122.04,121,420,301,10.4788,77.339999999999989,1.3567,3.49,6.0346999999999982,null,null,212,2000,50,650,10.5,6.5,40]
[22,"冷やし中華",185.76000000000002,414,667,473,24.12,69.260000000000005,2.0299999999999998,6.27,11.21,null,null,221,2650,65,800,7.5,7.5,50]
[23,"チャーハン",315.36,165,667,578,17.71,46.03,1.1200000000000001,2.74,23.24,null,null,222,2000,50,650,10.5,6.5,40]
[24,"スパゲティーミートソース",226.8,291,600,584,24.28,54.59,2.75,2.69,16.52,null,null,231,2650,65,800,7.5,7.5,50]
[25,"焼そば",303.48,316,640,502,20.63,97.51,2.46,1.77,21.010599999999997,null,null,232,2000,50,650,10.5,6.5,40]
[26,"コーンスープ",69.12,164,374,204,4.93,75.91,0.46,1.8503999999999998,13,null,null,241,2650,65,800,7.5,7.5,50]
[27,"きゅうりとわかめの酢の物",37.800000000000004,100,100,24,0.81599999999999995,24.939999999999998,0.24299999999999999,0.28275,8.4999999999999992E-2,null,null,242,2000,50,650,10.5,6.5,40]
[28,"ほうれん草のごま和え",75.600000000000009,125,148,81,3.61,131,2.41,1,4,null,null,251,2650,65,800,7.5,7.5,50]
[29,"豆腐とわかめみそ汁",41.040000000000006,104,130,41,3.48,45.5,0.87,2.1380000000000003,1.49,null,null,252,2000,50,650,10.5,6.5,40]
[30,"野菜サラダ",79.92,151,281,55,0.85,17.810000000000002,0.3,0.4955,4.1150000000000002,null,null,261,2650,65,800,7.5,7.5,50]
[31,"切り干し大根の煮物",74.52000000000001,137,149,95,3.7390000000000003,121.56,0.91400000000000015,1.1900000000000002,1.355,null,null,262,2000,50,650,10.5,6.5,40]
[32,"豚汁",128.52000000000001,142,157,145,6.83,45.542000000000002,1.0327000000000002,2.1660000000000004,9.68,null,null,271,2650,65,800,7.5,7.5,50]
[33,"キムチ",19,19,126,7,0.57999999999999996,12.5,0.13,0.73,0.03,null,null,272,2000,50,650,10.5,6.5,40]
[34,"かぼちゃの煮物",31.32,170,278,86,1.8513999999999999,14.88,0.41700000000000004,0.52229999999999999,0.24,null,null,281,2650,65,800,7.5,7.5,50]
[35,"しじみのみそ汁",106.92,108,180,29,2.6970000000000001,51.6,1.7610000000000001,1.62,0.86999999999999988,null,null,282,2000,50,650,10.5,6.5,40]
[36,"きんぴらごぼう",112.32000000000001,126,150,90,1.8760000000000001,38.950000000000003,0.63349999999999995,1.18,3.7220000000000004,null,null,291,2650,65,800,7.5,7.5,50]
[37,"ゆで卵",22.68,55,77,67,6.25,23.5,0.75,0.15,5.2,null,null,292,2000,50,650,10.5,6.5,40]
[38,"茶碗蒸し",101.52000000000001,146,156,89,11.78,27.57,0.77,1.62,3.36,null,null,"「年齢/性別」の3桁の数字の一番右は性別を表します。1は男性、2は女性です。"]
[39,"目玉焼き",68.040000000000006,200,200,120,6.63,30.65,0.96,0.2,9.16]
[40,"ひじきの煮物",104.76,130,100,100,3.44,130.69999999999999,1.0105000000000002,1.5550000000000002,4.7479999999999993]
[41,"野菜炒め",235.44000000000003,325,482,218,12.55,39.909999999999997,0.81,0.91800000000000004,15.327999999999999]
[42,"冷や奴",34.56,103,161,114,10.94,143.43,2.36,0.73,7.36]
[43,"筑前煮",253.8,257,303,231,11.4,42.63,1.03,1.83,11.26]
[44,"納豆",21.6,31,80,79,6.859,37.589999999999996,1.377,0.435,4.0019999999999998]
[45,"肉じゃが",426.6,302,258,387,11.09,61.37,1.46,2.5,24.870000000000005]
[46,"塩さけ",172.8,278,450,183,22.4,16,0.3,1.8,11.1]
[47,"サンマ塩焼き",108,133,322,291,18.34,33.5,1.47,1.46,25.62]
[48,"天ぷら",308.88,349,540,345,14.992299999999998,72.2,0.99,1.165,17.02]
[49,"刺身",395.28000000000003,398,635,132,24.967000000000002,18.220000000000002,0.72200000000000009,1.016,3.2890000000000001]
[50,"エビフライ",292.68,378,1354,280,15.57,83.15,0.97,1.17,20.07]
[51,"ビーフステーキ",1173.96,1120,1199,446,18.600000000000001,27.22,1.6567000000000001,1.7,36.743200000000002]
[52,"餃子",116.64000000000001,226,347,265,9.92,24.51,0.89,1.2674000000000001,14.77]
[53,"エビチリ",408.24,420,660,213,19.22,74.75,0.39,1.51,12.42]
[54,"八宝菜",306.72000000000003,411,670,231,17.45,50.6,1.26,2.5365000000000002,14.95]
[55,"トンカツ",375.84000000000003,383,676,513,25.66,78.569999999999993,1.54,1.53,35.340000000000003]
[56,"ハンバーグ",251.64000000000001,216,499,480,23.6,61,1.8,2,34]
[57,"焼売",136.08000000000001,248,570,260,14.62,17.8,1.22,0.84559999999999991,12.78]
[58,"春巻",92.88000000000001,179,343,321,9.83,16.079999999999998,0.86,1.4066000000000003,19.82]
[59,"麻婆豆腐",90.72,314,580,232,13.37,77.7,1.78,1.59,17.57]
[60,"豚肉の生姜焼き",352.08000000000004,294,590,348,19.652999999999999,30.01,0.67,0.67999999999999994,27.745000000000005]
[61,"鳥の唐揚げ",163.08000000000001,250,489,245,17.37,16.75,1.05,1.33,15.26]
[62,"おでん",254.88000000000002,357,1050,269,15.56,217.81999999999996,3.18,2.67,9.92]
[63,"寄せ鍋",460.08000000000004,714,840,262,31.05,299.95,3.39,2.74,10.24]
[64,"クリームシチュー",290.52000000000004,155,570,363,24.17,166.26,1.67,3.2,19.809999999999999]
[65,"コロッケ",115.56,200,340,325,12.47,37.19,1.34,1.57,20.6]
[66,"ナチュラルチーズ",48,48,200,98,6.4249999999999998,185,7.4999999999999997E-2,0.5,8.4499999999999993]
[67,"プロセスチーズ",44,44,200,78,5.68,157.5,7.4999999999999997E-2,0.7,6.5]
[68,"バニラアイス",143,143,300,134,2.72,88,8.0000000000000016E-2,0.16000000000000003,5.120000000000001]
[69,"スライスチーズ",33,33,150,58,3.8200000000000003,92,4.0000000000000008E-2,0.4,4.9400000000000004]
[70,"ソフトクリーム",124,124,250,206,5.2399999999999993,169,0.13,0.26,7.4799999999999995]
[71,"ヨーグルト",108,100,200,59,3.87,108,9.0000000000000011E-2,0.18000000000000002,0.18000000000000002]
[72,"牛乳",46.440000000000005,100,200,122,6.6,220,0.04,0.2,7.6]
[73,"カフェオレ",64.800000000000011,204,253,130,7.0204199999999997,224.00399999999999,0.1258,0.20286000000000001,7.6085799999999999]
[74,"グレープフルーツ",112.32000000000001,200,300,60,1.35,22.5,0,0,0.15000000000000002]
[75,"すいか",127.44000000000001,219,350,49,0.72,4.8,0.24,0,0.12]
[76,"メロン",155.52000000000001,186,430,40,1.1000000000000001,8,0.3,0,0.1]
[77,"柿",114.48,200,300,113,0.72000000000000008,16.2,0.36000000000000004,0,0.36000000000000004]
[78,"リンゴ",83.160000000000011,150,230,56,0.10600000000000001,3.18,0.11,0,0.21]
[79,"ぶどう",90.72,160,250,41,0.27999999999999997,4.1999999999999993,6.9999999999999993E-2,0,6.9999999999999993E-2]
[80,"なし",114.48,200,300,32,0.26,1.7,0,0,0.09]
[81,"みかん",83.160000000000011,150,230,37,0.53,15.96,0.15,0,0.08]
[82,"キウイ",98.28,180,270,51,1,26,0.3,0,0.2]
[83,"イチゴ",110.16000000000001,200,300,19,0.54,10.199999999999999,0.18,0,0.06]
[84,"バナナ",81,98,230,93,1.1000000000000001,6,0.3,0,0.2]
[85,"プリン",37.800000000000004,117,276,180,5.79,103.04,0.39,0.18,5.7]
[86,"杏仁豆腐",30.240000000000002,122,310,122,1.67,61.83,0.06,0.05,1.9]
[87,"コーヒーゼリー",34.56,65,370,102,2.09,9.32,0.04,0.03,5.93]
[88,"ホットケーキ",198.72000000000003,269,530,529,12,195,0.82,1.2,14.28]
[89,"せんべい",15,15,15,239,4.75,5.2,0.65,0.85,0.65]
[90,"ドーナツ",27,70,245,207,2.86,31.28,0.21,0.15,7.91]
[91,"クッキー",31,25,150,150,1.78,10.23,0.19,0.05,9.09]
[92,"ポテトチップ",46,46,150,162,1.41,5.0999999999999996,0.51,0.3,10.56]
[93,"チョコレート",51,51,100,138,1.73,60,0.6,0.05,8.5299999999999994]
[94,"あめ",8,8,10,19,0,0.05,0,0,0]
[95,"みたらし団子",62.64,135,200,250,3.74,5.35,0.63,1.1599999999999999,0.48]
[96,"ショートケーキ",195.48000000000002,304,450,390,6.14,45.81,0.74,0.16,24.69]
[97,"紅茶",16.200000000000003,133,240,21,0.15000000000000002,1.5,0,0,0]
[98,"オレンジジュース",55.080000000000005,138,263,92,1.4,18,0.2,0,0.2]
[99,"コーヒー",17.28,63,290,26,0.30000000000000004,3,0,0,0]
[100,"大根と油揚げのみそ汁",34.56,33,100,51,3.53,57.3,0.88,1.59,2.7040000000000002]
[101,"かき卵汁",25.92,24,100,28,2.0699999999999998,10.83,0.22,1.0900000000000001,1.22]